Workbook

Sheet 2021 Fee Schedule Analyzer
G2: Select your | AE2: Locality Name | AF2: PW GPCI 2020 / 2021 | AG2: PE GPCI 2020 / 2021 | AH2: MP GPCI 2020 / 2021
G3: locality | AE3: NATIONAL | AF3: =VLOOKUP($AE$3,'Addendum E. GPCIs'!$C$4:$F$116,2,FALSE) -> 1 | AG3: =VLOOKUP($AE$3,'Addendum E. GPCIs'!$C$4:$F$116,3,FALSE) -> 1 | AH3: =VLOOKUP($AE$3,'Addendum E. GPCIs'!$C$4:$F$116,4,FALSE) -> 1
A4: 2021 Physician E/M Fee Schedule Analyzer Tool (Non-Facility) | AF4: =VLOOKUP($AE$3,'Addendum E. GPCIs'!$C$4:$I$116,5,FALSE) -> 1 | AG4: =VLOOKUP($AE$3,'Addendum E. GPCIs'!$C$4:$I$116,6,FALSE) -> 1 | AH4: =VLOOKUP($AE$3,'Addendum E. GPCIs'!$C$4:$I$116,7,FALSE) -> 1
AB6: NON-FACILITY | AC6: FACILITY | AE6: Conversion Factor | AG6: Enter your Non-Medicare | AH6: Non-Medicare Percentage
C7: 2020 - CMS Final as of Dec 2020 | E7: NOT USED | J7: 2020 | Y7: PHYSICIAN | AA7: DIAGNOSTIC | AB7: PE USED | AC7: PE USED | AD7: MP USED | AE7: 36.0896 | AG7: Percentage | AH7: 1
J8: 2021 | AE8: 32.4085
A10: 2020 Fee Schedule Payment Amounts for E/M CPT Codes
D11: STATUS | E11: MEDICARE | F11: WORK | G11: NON-FAC | H11: NA | I11: NA | J11: MP | K11: NON-FACILITY | L11: FACILITY | M11: PCTC | N11: GLOB | O11: PRE | P11: INTRA | Q11: POST | R11: MULT | S11: BILAT | T11: ASST | U11: CO- | V11: TEAM | W11: ENDO | X11: CONV | Y11: DIAGNOSTIC | Z11: CALCULATION | AA11: FAMILY | AB11: PAYMENT | AC11: PAYMENT | AD11: PAYMENT
A12: HCPCS | B12: MOD | C12: DESCRIPTION | D12: CODE | E12: PAYMENT | F12: RVU | G12: PE RVU | H12: INDICATOR | I12: INDICATOR | J12: RVU | K12: TOTAL | L12: TOTAL | M12: IND | N12: DAYS | O12: OP | P12: OP | Q12: OP | R12: PROC | S12: SURG | T12: SURG | U12: SURG | V12: SURG | W12: BASE | X12: FACTOR | Y12: PROCEDURES | Z12: FLAG | AA12: INDICATOR | AB12: AMOUNT | AC12: AMOUNT | AD12: AMOUNT | AE12: Non-Facility Charges - Medicare Physician Fee Schedule (MPFS) | AF12: Non-Medicare Non-Facility Charges (Based on above user entered percentage) | AG12: Medicare Non-Par Non-Facility Charges | AH12: Medicare Non-Facility Limiting Charges
A13: 99201 | C13: Office/outpatient visit new | D13: A | F13: 0.48 | G13: 0.76 | J13: 0.05 | K13: 1.29 | L13: 0.76 | M13: 0 | N13: XXX | O13: 0 | P13: 0 | Q13: 0 | R13: 0 | S13: 0 | T13: 0 | U13: 0 | V13: 0 | X13: 36.0391 | Y13: 09 | Z13: 0 | AA13: 99 | AB13: 0 | AC13: 0 | AD13: 0 | AE13: =((F13*$AF$3)+(G13*$AG$3)+(J13*$AH$3))*$AE$7 -> 46.555584 | AF13: =AE13*$AH$7 -> 46.555584 | AG13: =AE13*0.95 -> 44.227805 | AH13: =AG13*1.15 -> 50.861976
A14: 99202 | C14: Office/outpatient visit new | D14: A | F14: 0.93 | G14: 1.12 | J14: 0.09 | K14: 2.15 | L14: 1.43 | M14: 0 | N14: XXX | O14: 0 | P14: 0 | Q14: 0 | R14: 0 | S14: 0 | T14: 0 | U14: 0 | V14: 0 | X14: 36.0391 | Y14: 09 | Z14: 0 | AA14: 99 | AB14: 0 | AC14: 0 | AD14: 0 | AE14: =((F14*$AF$3)+(G14*$AG$3)+(J14*$AH$3))*$AE$7 -> 77.231744 | AF14: =AE14*$AH$7 -> 77.231744 | AG14: =AE14*0.95 -> 73.370157 | AH14: =AG14*1.15 -> 84.37568
A15: 99203 | C15: Office/outpatient visit new | D15: A | F15: 1.42 | G15: 1.48 | J15: 0.13 | K15: 3.05 | L15: 2.15 | M15: 0 | N15: XXX | O15: 0 | P15: 0 | Q15: 0 | R15: 0 | S15: 0 | T15: 0 | U15: 0 | V15: 0 | X15: 36.0391 | Y15: 09 | Z15: 0 | AA15: 99 | AB15: 0 | AC15: 0 | AD15: 0 | AE15: =((F15*$AF$3)+(G15*$AG$3)+(J15*$AH$3))*$AE$7 -> 109.35149 | AF15: =AE15*$AH$7 -> 109.35149 | AG15: =AE15*0.95 -> 103.88391 | AH15: =AG15*1.15 -> 119.4665
A16: 99204 | C16: Office/outpatient visit new | D16: A | F16: 2.43 | G16: 1.98 | J16: 0.22 | K16: 4.63 | L16: 3.64 | M16: 0 | N16: XXX | O16: 0 | P16: 0 | Q16: 0 | R16: 0 | S16: 0 | T16: 0 | U16: 0 | V16: 0 | X16: 36.0391 | Y16: 09 | Z16: 0 | AA16: 99 | AB16: 0 | AC16: 0 | AD16: 0 | AE16: =((F16*$AF$3)+(G16*$AG$3)+(J16*$AH$3))*$AE$7 -> 167.09485 | AF16: =AE16*$AH$7 -> 167.09485 | AG16: =AE16*0.95 -> 158.74011 | AH16: =AG16*1.15 -> 182.55112
A17: 99205 | C17: Office/outpatient visit new | D17: A | F17: 3.17 | G17: 2.4 | J17: 0.28 | K17: 5.82 | L17: 4.75 | M17: 0 | N17: XXX | O17: 0 | P17: 0 | Q17: 0 | R17: 0 | S17: 0 | T17: 0 | U17: 0 | V17: 0 | X17: 36.0391 | Y17: 09 | Z17: 0 | AA17: 99 | AB17: 0 | AC17: 0 | AD17: 0 | AE17: =((F17*$AF$3)+(G17*$AG$3)+(J17*$AH$3))*$AE$7 -> 211.12416 | AF17: =AE17*$AH$7 -> 211.12416 | AG17: =AE17*0.95 -> 200.56795 | AH17: =AG17*1.15 -> 230.65314
A18: 99211 | C18: Office/outpatient visit est | D18: A | F18: 0.18 | G18: 0.46 | J18: 0.01 | K18: 0.64 | L18: 0.26 | M18: 0 | N18: XXX | O18: 0 | P18: 0 | Q18: 0 | R18: 0 | S18: 0 | T18: 0 | U18: 0 | V18: 0 | X18: 36.0391 | Y18: 09 | Z18: 0 | AA18: 99 | AB18: 0 | AC18: 0 | AD18: 0 | AE18: =((F18*$AF$3)+(G18*$AG$3)+(J18*$AH$3))*$AE$7 -> 23.45824 | AF18: =AE18*$AH$7 -> 23.45824 | AG18: =AE18*0.95 -> 22.285328 | AH18: =AG18*1.15 -> 25.628127
A19: 99212 | C19: Office/outpatient visit est | D19: A | F19: 0.48 | G19: 0.75 | J19: 0.05 | K19: 1.27 | L19: 0.72 | M19: 0 | N19: XXX | O19: 0 | P19: 0 | Q19: 0 | R19: 0 | S19: 0 | T19: 0 | U19: 0 | V19: 0 | X19: 36.0391 | Y19: 09 | Z19: 0 | AA19: 99 | AB19: 0 | AC19: 0 | AD19: 0 | AE19: =((F19*$AF$3)+(G19*$AG$3)+(J19*$AH$3))*$AE$7 -> 46.194688 | AF19: =AE19*$AH$7 -> 46.194688 | AG19: =AE19*0.95 -> 43.884954 | AH19: =AG19*1.15 -> 50.467697
A20: 99213 | C20: Office/outpatient visit est | D20: A | F20: 0.97 | G20: 1.06 | J20: 0.08 | K20: 2.09 | L20: 1.44 | M20: 0 | N20: XXX | O20: 0 | P20: 0 | Q20: 0 | R20: 0 | S20: 0 | T20: 0 | U20: 0 | V20: 0 | X20: 36.0391 | Y20: 09 | Z20: 0 | AA20: 99 | AB20: 0 | AC20: 0 | AD20: 0 | AE20: =((F20*$AF$3)+(G20*$AG$3)+(J20*$AH$3))*$AE$7 -> 76.149056 | AF20: =AE20*$AH$7 -> 76.149056 | AG20: =AE20*0.95 -> 72.341603 | AH20: =AG20*1.15 -> 83.192844
A21: 99214 | C21: Office/outpatient visit est | D21: A | F21: 1.5 | G21: 1.45 | J21: 0.11 | K21: 3.06 | L21: 2.22 | M21: 0 | N21: XXX | O21: 0 | P21: 0 | Q21: 0 | R21: 0 | S21: 0 | T21: 0 | U21: 0 | V21: 0 | X21: 36.0391 | Y21: 09 | Z21: 0 | AA21: 99 | AB21: 0 | AC21: 0 | AD21: 0 | AE21: =((F21*$AF$3)+(G21*$AG$3)+(J21*$AH$3))*$AE$7 -> 110.43418 | AF21: =AE21*$AH$7 -> 110.43418 | AG21: =AE21*0.95 -> 104.91247 | AH21: =AG21*1.15 -> 120.64934
A22: 99215 | C22: Office/outpatient visit est | D22: A | F22: 2.11 | G22: 1.85 | J22: 0.15 | K22: 4.1 | L22: 3.13 | M22: 0 | N22: XXX | O22: 0 | P22: 0 | Q22: 0 | R22: 0 | S22: 0 | T22: 0 | U22: 0 | V22: 0 | X22: 36.0391 | Y22: 09 | Z22: 0 | AA22: 99 | AB22: 0 | AC22: 0 | AD22: 0 | AE22: =((F22*$AF$3)+(G22*$AG$3)+(J22*$AH$3))*$AE$7 -> 148.32826 | AF22: =AE22*$AH$7 -> 148.32826 | AG22: =AE22*0.95 -> 140.91184 | AH22: =AG22*1.15 -> 162.04862
A24: 2021 Projected Fee Schedule Payment Amounts for E/M CPT Codes
A25: 99201 | C25: Office/outpatient visit new | D25: A | F25: N/A | G25: N/A | H25: N/A | I25: N/A | J25: N/A | K25: N/A | L25: N/A | M25: N/A | N25: N/A | O25: N/A | P25: N/A | Q25: N/A | R25: N/A | S25: N/A | T25: N/A | U25: N/A | V25: N/A | W25: N/A | X25: N/A | Y25: N/A | Z25: N/A | AA25: N/A | AB25: N/A | AC25: N/A | AD25: N/A | AE25: N/A | AF25: N/A | AG25: N/A | AH25: N/A
A26: 99202 | C26: Office/outpatient visit new | D26: A | F26: 0.93 | G26: 1.12 | J26: 0.08 | K26: 2.15 | L26: 1.43 | M26: 0 | N26: XXX | O26: 0 | P26: 0 | Q26: 0 | R26: 0 | S26: 0 | T26: 0 | U26: 0 | V26: 0 | X26: 36.0391 | Y26: 09 | Z26: 0 | AA26: 99 | AB26: 0 | AC26: 0 | AD26: 0 | AE26: =((F26*$AF$4)+(G26*$AG$4)+(J26*$AH$4))*$AE$8 -> 69.030105 | AF26: =AE26*$AH$7 -> 69.030105 | AG26: =AE26*0.95 -> 65.5786 | AH26: =AG26*1.15 -> 75.41539
A27: 99203 | C27: Office/outpatient visit new | D27: A | F27: 1.6 | G27: 1.53 | J27: 0.15 | K27: 3.05 | L27: 2.15 | M27: 0 | N27: XXX | O27: 0 | P27: 0 | Q27: 0 | R27: 0 | S27: 0 | T27: 0 | U27: 0 | V27: 0 | X27: 36.0391 | Y27: 09 | Z27: 0 | AA27: 99 | AB27: 0 | AC27: 0 | AD27: 0 | AE27: =((F27*$AF$4)+(G27*$AG$4)+(J27*$AH$4))*$AE$8 -> 106.29988 | AF27: =AE27*$AH$7 -> 106.29988 | AG27: =AE27*0.95 -> 100.98489 | AH27: =AG27*1.15 -> 116.13262
A28: 99204 | C28: Office/outpatient visit new | D28: A | F28: 2.6 | G28: 2.09 | J28: 0.24 | K28: 4.63 | L28: 3.64 | M28: 0 | N28: XXX | O28: 0 | P28: 0 | Q28: 0 | R28: 0 | S28: 0 | T28: 0 | U28: 0 | V28: 0 | X28: 36.0391 | Y28: 09 | Z28: 0 | AA28: 99 | AB28: 0 | AC28: 0 | AD28: 0 | AE28: =((F28*$AF$4)+(G28*$AG$4)+(J28*$AH$4))*$AE$8 -> 159.7739 | AF28: =AE28*$AH$7 -> 159.7739 | AG28: =AE28*0.95 -> 151.78521 | AH28: =AG28*1.15 -> 174.55299
A29: 99205 | C29: Office/outpatient visit new | D29: A | F29: 3.5 | G29: 2.69 | J29: 0.32 | K29: 5.82 | L29: 4.75 | M29: 0 | N29: XXX | O29: 0 | P29: 0 | Q29: 0 | R29: 0 | S29: 0 | T29: 0 | U29: 0 | V29: 0 | X29: 36.0391 | Y29: 09 | Z29: 0 | AA29: 99 | AB29: 0 | AC29: 0 | AD29: 0 | AE29: =((F29*$AF$4)+(G29*$AG$4)+(J29*$AH$4))*$AE$8 -> 210.97933 | AF29: =AE29*$AH$7 -> 210.97933 | AG29: =AE29*0.95 -> 200.43037 | AH29: =AG29*1.15 -> 230.49492
A30: 99211 | C30: Office/outpatient visit est | D30: A | F30: 0.18 | G30: 0.49 | J30: 0.01 | K30: 0.64 | L30: 0.26 | M30: 0 | N30: XXX | O30: 0 | P30: 0 | Q30: 0 | R30: 0 | S30: 0 | T30: 0 | U30: 0 | V30: 0 | X30: 36.0391 | Y30: 09 | Z30: 0 | AA30: 99 | AB30: 0 | AC30: 0 | AD30: 0 | AE30: =((F30*$AF$4)+(G30*$AG$4)+(J30*$AH$4))*$AE$8 -> 22.03778 | AF30: =AE30*$AH$7 -> 22.03778 | AG30: =AE30*0.95 -> 20.935891 | AH30: =AG30*1.15 -> 24.076275
A31: 99212 | C31: Office/outpatient visit est | D31: A | F31: 0.7 | G31: 0.9 | J31: 0.07 | K31: 1.27 | L31: 0.72 | M31: 0 | N31: XXX | O31: 0 | P31: 0 | Q31: 0 | R31: 0 | S31: 0 | T31: 0 | U31: 0 | V31: 0 | X31: 36.0391 | Y31: 09 | Z31: 0 | AA31: 99 | AB31: 0 | AC31: 0 | AD31: 0 | AE31: =((F31*$AF$4)+(G31*$AG$4)+(J31*$AH$4))*$AE$8 -> 54.122195 | AF31: =AE31*$AH$7 -> 54.122195 | AG31: =AE31*0.95 -> 51.416085 | AH31: =AG31*1.15 -> 59.128498
A32: 99213 | C32: Office/outpatient visit est | D32: A | F32: 1.3 | G32: 1.28 | J32: 0.1 | K32: 2.09 | L32: 1.44 | M32: 0 | N32: XXX | O32: 0 | P32: 0 | Q32: 0 | R32: 0 | S32: 0 | T32: 0 | U32: 0 | V32: 0 | X32: 36.0391 | Y32: 09 | Z32: 0 | AA32: 99 | AB32: 0 | AC32: 0 | AD32: 0 | AE32: =((F32*$AF$4)+(G32*$AG$4)+(J32*$AH$4))*$AE$8 -> 86.85478 | AF32: =AE32*$AH$7 -> 86.85478 | AG32: =AE32*0.95 -> 82.512041 | AH32: =AG32*1.15 -> 94.888847
A33: 99214 | C33: Office/outpatient visit est | D33: A | F33: 1.92 | G33: 1.76 | J33: 0.13 | K33: 3.06 | L33: 2.22 | M33: 0 | N33: XXX | O33: 0 | P33: 0 | Q33: 0 | R33: 0 | S33: 0 | T33: 0 | U33: 0 | V33: 0 | X33: 36.0391 | Y33: 09 | Z33: 0 | AA33: 99 | AB33: 0 | AC33: 0 | AD33: 0 | AE33: =((F33*$AF$4)+(G33*$AG$4)+(J33*$AH$4))*$AE$8 -> 123.47638 | AF33: =AE33*$AH$7 -> 123.47638 | AG33: =AE33*0.95 -> 117.30257 | AH33: =AG33*1.15 -> 134.89795
A34: 99215 | C34: Office/outpatient visit est | D34: A | F34: 2.8 | G34: 2.32 | J34: 0.21 | K34: 4.1 | L34: 3.13 | M34: 0 | N34: XXX | O34: 0 | P34: 0 | Q34: 0 | R34: 0 | S34: 0 | T34: 0 | U34: 0 | V34: 0 | X34: 36.0391 | Y34: 09 | Z34: 0 | AA34: 99 | AB34: 0 | AC34: 0 | AD34: 0 | AE34: =((F34*$AF$4)+(G34*$AG$4)+(J34*$AH$4))*$AE$8 -> 172.7373 | AF34: =AE34*$AH$7 -> 172.7373 | AG34: =AE34*0.95 -> 164.10044 | AH34: =AG34*1.15 -> 188.71551
A36: Instructions: This tool is designed for a physician practice to analyze their E/M reimbursements for 2020 as compared to what is in the final rule for 2021. (As of Dec 2020) Select your locality at the top and enter a non-Medicare percentage (as desired). The Medicare payment rate for 2020 and 2021 will update for the E/M codes in column AE and the non-Medicare payment rate based on the percentage you selected at the top will populate in column AF. Which is useful for determining a rate for any commercial or other payers who may utilized a percentage of Medicare for payments. The Medicare non-facility charge amounts and non-facility limiting charges are available for reference in columns AG and AH.

Sheet Addendum E. GPCIs
A1: ADDENDUM E: CY 2020/2021 GEOGRAPHIC PRACTICE COST INDICES (GPCIs) BY STATE AND MEDICARE LOCALITY
A2: Medicare Administrative Contractor | B2: Locality Number | C2: Locality Name | D2: 2020 (with 1.0 floor) | G2: 2021 (with 1.0 floor)
D3: PW GPCI | E3: PE GPCI | F3: MP GPCI | G3: 2021 PW GPCI | H3: 2021 PE GPCI | I3: 2021 MP GPCI
A4: 10112 | B4: 00 | C4: ALABAMA | D4: 1 | E4: 0.889 | F4: 0.707 | G4: 1 | H4: 0.888 | I4: 0.921
A5: 02102 | B5: 01 | C5: ALASKA** | D5: 1.5 | E5: 1.118 | F5: 0.661 | G5: 1.5 | H5: 1.118 | I5: 0.614
A6: 03102 | B6: 00 | C6: ARIZONA | D6: 1 | E6: 0.961 | F6: 0.846 | G6: 1 | H6: 0.951 | I6: 0.857
A7: 07102 | B7: 13 | C7: ARKANSAS | D7: 1 | E7: 0.859 | F7: 0.521 | G7: 1 | H7: 0.847 | I7: 0.465
A8: 01112 | B8: 54 | C8: BAKERSFIELD | D8: 1.032 | E8: 1.07 | F8: 0.677 | G8: 1.035 | H8: 1.065 | I8: 0.704
A9: 01112 | B9: 55 | C9: CHICO | D9: 1.024 | E9: 1.07 | F9: 0.58 | G9: 1.027 | H9: 1.065 | I9: 0.597
A10: 01182 | B10: 71 | C10: EL CENTRO | D10: 1.024 | E10: 1.07 | F10: 0.606 | G10: 1.027 | H10: 1.065 | I10: 0.616
A11: 01112 | B11: 56 | C11: FRESNO | D11: 1.024 | E11: 1.07 | F11: 0.58 | G11: 1.027 | H11: 1.065 | I11: 0.597
A12: 01112 | B12: 57 | C12: HANFORD-CORCORAN | D12: 1.024 | E12: 1.07 | F12: 0.58 | G12: 1.027 | H12: 1.065 | I12: 0.597
A13: 01182 | B13: 18 | C13: LOS ANGELES-LONG BEACH-ANAHEIM (LOS ANGELES CNTY) | D13: 1.047 | E13: 1.176 | F13: 0.725 | G13: 1.048 | H13: 1.175 | I13: 0.757
A14: 01182 | B14: 26 | C14: LOS ANGELES-LONG BEACH-ANAHEIM (ORANGE CNTY) | D14: 1.047 | E14: 1.176 | F14: 0.725 | G14: 1.048 | H14: 1.175 | I14: 0.757
A15: 01112 | B15: 58 | C15: MADERA | D15: 1.024 | E15: 1.07 | F15: 0.58 | G15: 1.027 | H15: 1.065 | I15: 0.597
A16: 01112 | B16: 59 | C16: MERCED | D16: 1.024 | E16: 1.07 | F16: 0.58 | G16: 1.027 | H16: 1.065 | I16: 0.597
A17: 01112 | B17: 60 | C17: MODESTO | D17: 1.024 | E17: 1.07 | F17: 0.58 | G17: 1.027 | H17: 1.065 | I17: 0.597
A18: 01112 | B18: 51 | C18: NAPA | D18: 1.049 | E18: 1.238 | F18: 0.496 | G18: 1.044 | H18: 1.22 | I18: 0.504
A19: 01112 | B19: 07 | C19: SAN FRANCISCO-OAKLAND-HAYWARD (ALAMEDA/CONTRA COSTA CNTY) | D19: 1.076 | E19: 1.327 | F19: 0.44 | G19: 1.077 | H19: 1.329 | I19: 0.458
A20: 01182 | B20: 17 | C20: OXNARD-THOUSAND OAKS-VENTURA | D20: 1.026 | E20: 1.178 | F20: 0.7 | G20: 1.027 | H20: 1.179 | I20: 0.726
A21: 01112 | B21: 61 | C21: REDDING | D21: 1.024 | E21: 1.07 | F21: 0.58 | G21: 1.027 | H21: 1.065 | I21: 0.597
A22: 01112 | B22: 62 | C22: RIVERSIDE-SAN BERNARDINO-ONTARIO | D22: 1.024 | E22: 1.07 | F22: 0.83 | G22: 1.027 | H22: 1.065 | I22: 0.896
A23: 01112 | B23: 63 | C23: SACRAMENTO--ROSEVILLE--ARDEN-ARCADE | D23: 1.033 | E23: 1.078 | F23: 0.58 | G23: 1.036 | H23: 1.079 | I23: 0.597
A24: 01112 | B24: 64 | C24: SALINAS | D24: 1.051 | E24: 1.112 | F24: 0.58 | G24: 1.058 | H24: 1.122 | I24: 0.597
A25: 01182 | B25: 72 | C25: SAN DIEGO-CARLSBAD | D25: 1.032 | E25: 1.13 | F25: 0.607 | G25: 1.035 | H25: 1.145 | I25: 0.616
A26: 01112 | B26: 05 | C26: SAN FRANCISCO-OAKLAND-HAYWARD (SAN FRANCISCO CNTY) | D26: 1.076 | E26: 1.327 | F26: 0.44 | G26: 1.077 | H26: 1.329 | I26: 0.458
A27: 01112 | B27: 52 | C27: SAN FRANCISCO-OAKLAND-HAYWARD (MARIN CNTY) | D27: 1.068 | E27: 1.299 | F27: 0.481 | G27: 1.071 | H27: 1.311 | I27: 0.504
A28: 01112 | B28: 65 | C28: SAN JOSE-SUNNYVALE-SANTA CLARA (SAN BENITO CNTY) | D28: 1.072 | E28: 1.279 | F28: 0.58 | G28: 1.084 | H28: 1.33 | I28: 0.597
A29: 01182 | B29: 73 | C29: SAN LUIS OBISPO-PASO ROBLES-ARROYO GRANDE | D29: 1.024 | E29: 1.083 | F29: 0.58 | G29: 1.027 | H29: 1.085 | I29: 0.597
A30: 01112 | B30: 06 | C30: SAN FRANCISCO-OAKLAND-HAYWARD (SAN MATEO CNTY) | D30: 1.076 | E30: 1.327 | F30: 0.44 | G30: 1.077 | H30: 1.329 | I30: 0.458
A31: 01112 | B31: 09 | C31: SAN JOSE-SUNNYVALE-SANTA CLARA (SANTA CLARA CNTY) | D31: 1.089 | E31: 1.369 | F31: 0.401 | G31: 1.096 | H31: 1.383 | I31: 0.414
A32: 01112 | B32: 66 | C32: SANTA CRUZ-WATSONVILLE | D32: 1.038 | E32: 1.16 | F32: 0.58 | G32: 1.042 | H32: 1.181 | I32: 0.597
A33: 01182 | B33: 74 | C33: SANTA MARIA-SANTA BARBARA | D33: 1.035 | E33: 1.14 | F33: 0.58 | G33: 1.038 | H33: 1.157 | I33: 0.597
A34: 01112 | B34: 67 | C34: SANTA ROSA | D34: 1.038 | E34: 1.142 | F34: 0.58 | G34: 1.042 | H34: 1.159 | I34: 0.597
A35: 01112 | B35: 68 | C35: STOCKTON-LODI | D35: 1.024 | E35: 1.07 | F35: 0.58 | G35: 1.027 | H35: 1.065 | I35: 0.597
A36: 01112 | B36: 53 | C36: VALLEJO-FAIRFIELD | D36: 1.049 | E36: 1.238 | F36: 0.496 | G36: 1.044 | H36: 1.22 | I36: 0.504
A37: 01112 | B37: 69 | C37: VISALIA-PORTERVILLE | D37: 1.024 | E37: 1.07 | F37: 0.58 | G37: 1.027 | H37: 1.065 | I37: 0.597
A38: 01112 | B38: 70 | C38: YUBA CITY | D38: 1.024 | E38: 1.07 | F38: 0.58 | G38: 1.027 | H38: 1.065 | I38: 0.597
A39: 01112 | B39: 75 | C39: REST OF CALIFORNIA | D39: 1.024 | E39: 1.07 | F39: 0.58 | G39: 1.027 | H39: 1.065 | I39: 0.597
A40: 04112 | B40: 01 | C40: COLORADO | D40: 1 | E40: 1.033 | F40: 0.905 | G40: 1.001 | H40: 1.047 | I40: 0.767
... A115: 03602 | B115: 21 | C115: WYOMING*** | D115: 1 | E115: 1 | F115: 0.86 | G115: 1 | H115: 1 | I115: 0.841
C116: NATIONAL | D116: 1 | E116: 1 | F116: 1 | G116: 1 | H116: 1 | I116: 1
A118: 2019 GPCIs reflect the second year of a two year update transition.
A121: **Work GPCI reflects a 1.5 floor in Alaska established by the MIPPA.
A122: ***PE GPCI reflects a 1.0 floor for frontier states established by the ACA.
A124: MAC Assignments as of October 27, 2020
A126: *Work GPCI reflects a 1.5 floor in Alaska established by the MIPPA.
A127: **PE GPCI reflects a 1.0 floor for frontier states established by the ACA.
A129: Note: The 1.0 Work GPCI floor required by Section 2201 of the Continuing Appropriations Act, 2021 and Other Extensions Act [October 1, 2020] extended the Work GPCI floor through December 11, 2020 only.
A130: For illustrative purposes, Work GPCIs are also shown above as if the 1.0 work floor had remained in place for CY 2021.
A132: Note: Beginning in CY 2021, the locality names in California are updated to reflect the revised delineations of Metropolitan Statistical Areas as indicated in OMB Bulletin No. 20-01 (March 6, 2020).
A133: A detailed discussion of the requirement to use MSAs for the fee schedule areas in California can be found in the CY 2017 PFS Final Rule (81 FR 80265).

Sheet Copyright notice
B2: 2020 National Physician Fee Schedule Relative Value File July Release
B3: CPT codes and descriptions only are copyright 2018 American Medical Association. All Rights Reserved. Applicable FARS/DFARS Apply.
B4: Dental codes (D codes) are copyright 2019/20 American Dental Association. All Rights Reserved.
B6: RELEASED 05/05/2020
B8: 2021 National Physician Fee Schedule Relative Value File Final Rule
B9: CPT codes and descriptions only are copyright 2020 American Medical Association. All Rights Reserved. Applicable FARS/DFARS Apply.
B10: Dental codes (D codes) are copyright 2019/20 American Dental Association. All Rights Reserved.
B12: Final as of Dec 2020
